BEGIN:VCALENDAR
VERSION:2.0
PRODID:-//194.147.93.100//NONSGML kigkonsult.se iCalcreator 2.26.9//
CALSCALE:GREGORIAN
METHOD:PUBLISH
X-FROM-URL:http://dthelleng.lu
X-WR-TIMEZONE:Europe/Luxembourg
BEGIN:VTIMEZONE
TZID:Europe/Luxembourg
X-LIC-LOCATION:Europe/Luxembourg
BEGIN:STANDARD
DTSTART:20211031T030000
TZOFFSETFROM:+0200
TZOFFSETTO:+0100
RDATE:20221030T030000
TZNAME:CET
END:STANDARD
BEGIN:DAYLIGHT
DTSTART:20210328T020000
TZOFFSETFROM:+0100
TZOFFSETTO:+0200
RDATE:20220327T020000
TZNAME:CEST
END:DAYLIGHT
END:VTIMEZONE
BEGIN:VEVENT
UID:ai1ec-373@dthelleng.lu/wp
DTSTAMP:20210720T132321Z
CATEGORIES;LANGUAGE=de-DE:Fester
CONTACT:
DESCRIPTION:
DTSTART;TZID=Europe/Luxembourg:20180720T190000
DTEND;TZID=Europe/Luxembourg:20180721T020000
GEO:+49.51005;+6.148389
LOCATION:Hellange Centre polyvalent @ Crauthemerstrooss\, 3334 Helléng\, Lu
 xemburg
SEQUENCE:0
SUMMARY:Bal mam Rol Girres a Marion Welter
URL:http://dthelleng.lu/Veranstaltung/bal-mam-rol-girres-a-marion-welter/
X-COST-TYPE:free
END:VEVENT
END:VCALENDAR
